BEGIN:VCALENDAR
VERSION:2.0
PRODID:-//wp-events-plugin.com//7.2.3.1//EN
TZID:Europe/Amsterdam
X-WR-TIMEZONE:Europe/Amsterdam
BEGIN:VEVENT
UID:601@veldje.nl
DTSTART;TZID=Europe/Amsterdam:20250720T140000
DTEND;TZID=Europe/Amsterdam:20250720T160000
DTSTAMP:20250719T164122Z
URL:https://veldje.nl/events/zondag-20-juli-gesloten-wegens-gebrek-aan-vri
 jwilligers/
SUMMARY:Zondag 20 juli gesloten wegens gebrek aan vrijwilligers
DESCRIPTION:
ATTACH;FMTTYPE=image/jpeg:https://veldje.nl/wp-content/uploads/2025/07/Sor
 ry-we-zijn-GESLOTEN.jpg
CATEGORIES:Openingstijden
END:VEVENT
BEGIN:VTIMEZONE
TZID:Europe/Amsterdam
X-LIC-LOCATION:Europe/Amsterdam
BEGIN:DAYLIGHT
DTSTART:20250330T030000
TZOFFSETFROM:+0100
TZOFFSETTO:+0200
TZNAME:CEST
END:DAYLIGHT
END:VTIMEZONE
END:VCALENDAR