BEGIN:VCALENDAR
VERSION:2.0
PRODID:-//wp-events-plugin.com//7.2.3.1//EN
TZID:Europe/Amsterdam
X-WR-TIMEZONE:Europe/Amsterdam
BEGIN:VEVENT
UID:359@veldje.nl
DTSTART;TZID=Europe/Amsterdam:20220423T140000
DTEND;TZID=Europe/Amsterdam:20220423T160000
DTSTAMP:20220422T193928Z
URL:https://veldje.nl/events/zaterdag-23-april-gesloten/
SUMMARY:Zaterdag 23 april gesloten
DESCRIPTION:Wij zijn druk met de voorbereidingen voor de \nfeestdag van zon
 dag 24 april en zullen daarom vandaag\nniet geopend zijn!\n\nGraag ontvang
 en wij jullie zondag 24 april vanaf 13.00 \nuur om er samen een geweldige 
 dag van te maken!\n
ATTACH;FMTTYPE=image/jpeg:https://veldje.nl/wp-content/uploads/2020/09/img
 _6858.jpg
CATEGORIES:Openingstijden
LOCATION:Kinderboerderij 't Veldje\, Abraham Kuyperborch 2\, Rosmalen\, Noo
 rd-Brabant\, 5241 HR\, Nederland
X-APPLE-STRUCTURED-LOCATION;VALUE=URI;X-ADDRESS=Abraham Kuyperborch 2\, Ros
 malen\, Noord-Brabant\, 5241 HR\, Nederland;X-APPLE-RADIUS=100;X-TITLE=Kin
 derboerderij 't Veldje:geo:0,0
END:VEVENT
BEGIN:VTIMEZONE
TZID:Europe/Amsterdam
X-LIC-LOCATION:Europe/Amsterdam
BEGIN:DAYLIGHT
DTSTART:20220327T030000
TZOFFSETFROM:+0100
TZOFFSETTO:+0200
TZNAME:CEST
END:DAYLIGHT
END:VTIMEZONE
END:VCALENDAR