BEGIN:VCALENDAR
VERSION:2.0
PRODID:-//wp-events-plugin.com//7.2.3.1//EN
TZID:Europe/Amsterdam
X-WR-TIMEZONE:Europe/Amsterdam
BEGIN:VEVENT
UID:355@veldje.nl
DTSTART;TZID=Europe/Amsterdam:20220306T120000
DTEND;TZID=Europe/Amsterdam:20220306T180000
DTSTAMP:20220222T125700Z
URL:https://veldje.nl/events/verjaardagsfeestje/
SUMMARY:Verjaardagsfeestje
DESCRIPTION:
CATEGORIES:Educatie
LOCATION:Educatieruimte\, Abraham Kuyperborch 2\, Rosmalen\, Noord-Brabant\
 , 5241 HR\, Nederland
X-APPLE-STRUCTURED-LOCATION;VALUE=URI;X-ADDRESS=Abraham Kuyperborch 2\, Ros
 malen\, Noord-Brabant\, 5241 HR\, Nederland;X-APPLE-RADIUS=100;X-TITLE=Edu
 catieruimte:geo:0,0
END:VEVENT
BEGIN:VTIMEZONE
TZID:Europe/Amsterdam
X-LIC-LOCATION:Europe/Amsterdam
BEGIN:STANDARD
DTSTART:20211031T020000
TZOFFSETFROM:+0200
TZOFFSETTO:+0100
TZNAME:CET
END:STANDARD
END:VTIMEZONE
END:VCALENDAR