BEGIN:VCALENDAR
VERSION:2.0
PRODID:-//wp-events-plugin.com//7.2.3.1//EN
TZID:Europe/Amsterdam
X-WR-TIMEZONE:Europe/Amsterdam
BEGIN:VEVENT
UID:565@veldje.nl
DTSTART;TZID=Europe/Amsterdam:20241216T000000
DTEND;TZID=Europe/Amsterdam:20241216T000000
DTSTAMP:20241130T193521Z
URL:https://veldje.nl/events/vergadering-triathlon-rosmalen-2/
SUMMARY:vergadering Triathlon Rosmalen
DESCRIPTION:Hans de Wit belt op wanneer ze bijna klaar zijn.
CATEGORIES:Educatie
END:VEVENT
BEGIN:VTIMEZONE
TZID:Europe/Amsterdam
X-LIC-LOCATION:Europe/Amsterdam
BEGIN:STANDARD
DTSTART:20241027T020000
TZOFFSETFROM:+0200
TZOFFSETTO:+0100
TZNAME:CET
END:STANDARD
END:VTIMEZONE
END:VCALENDAR