BEGIN:VCALENDAR
VERSION:2.0
PRODID:-//wp-events-plugin.com//7.2.3.1//EN
TZID:Europe/Amsterdam
X-WR-TIMEZONE:Europe/Amsterdam
BEGIN:VEVENT
UID:570@veldje.nl
DTSTART;TZID=Europe/Amsterdam:20250201T120000
DTEND;TZID=Europe/Amsterdam:20250201T160000
DTSTAMP:20250122T184147Z
URL:https://veldje.nl/events/kinderverjaardag/
SUMMARY:kinderverjaardag
DESCRIPTION:Cindy heeft dienst deze dag dus kan zelf openen en sluiten.
CATEGORIES:Educatie
END:VEVENT
BEGIN:VTIMEZONE
TZID:Europe/Amsterdam
X-LIC-LOCATION:Europe/Amsterdam
BEGIN:STANDARD
DTSTART:20241027T020000
TZOFFSETFROM:+0200
TZOFFSETTO:+0100
TZNAME:CET
END:STANDARD
END:VTIMEZONE
END:VCALENDAR