BEGIN:VCALENDAR
VERSION:2.0
PRODID:-//wp-events-plugin.com//7.2.3.1//EN
TZID:Europe/Amsterdam
X-WR-TIMEZONE:Europe/Amsterdam
BEGIN:VEVENT
UID:587@veldje.nl
DTSTART;TZID=Europe/Amsterdam:20250510T120000
DTEND;TZID=Europe/Amsterdam:20250510T170000
DTSTAMP:20250330T194222Z
URL:https://veldje.nl/events/kinderfeestje-6/
SUMMARY:Kinderfeestje
DESCRIPTION:Na goedkeuring borg á €25\,00 binnen 2 dagen terug betalen
CATEGORIES:Educatie
LOCATION:Educatieruimte\, Abraham Kuyperborch 2\, Rosmalen\, Noord-Brabant\
 , 5241 HR\, Nederland
X-APPLE-STRUCTURED-LOCATION;VALUE=URI;X-ADDRESS=Abraham Kuyperborch 2\, Ros
 malen\, Noord-Brabant\, 5241 HR\, Nederland;X-APPLE-RADIUS=100;X-TITLE=Edu
 catieruimte:geo:0,0
END:VEVENT
BEGIN:VTIMEZONE
TZID:Europe/Amsterdam
X-LIC-LOCATION:Europe/Amsterdam
BEGIN:DAYLIGHT
DTSTART:20250330T030000
TZOFFSETFROM:+0100
TZOFFSETTO:+0200
TZNAME:CEST
END:DAYLIGHT
END:VTIMEZONE
END:VCALENDAR