BEGIN:VCALENDAR
VERSION:2.0
PRODID:-//wp-events-plugin.com//7.2.3.1//EN
TZID:Europe/Amsterdam
X-WR-TIMEZONE:Europe/Amsterdam
BEGIN:VEVENT
UID:360@veldje.nl
DTSTART;TZID=Europe/Amsterdam:20220427T140000
DTEND;TZID=Europe/Amsterdam:20220427T160000
DTSTAMP:20220422T194217Z
URL:https://veldje.nl/events/gesloten-i-v-m-koningsdag/
SUMMARY:Gesloten i.v.m. Koningsdag
DESCRIPTION:Vandaag zullen de deuren van de kinderboerderij gesloten \nblij
 ven in verband met koningsdag en de diverse activiteiten \ndie er overal a
 l georganiseerd worden.\nWij wensen iedereen een fijne koningsdag en zien 
 jullie graag \nvanaf 28 april 2022 weer terug op onze mooie kinderboerderi
 j!\n
ATTACH;FMTTYPE=image/jpeg:https://veldje.nl/wp-content/uploads/2022/04/Kon
 ingsdag-2022.png
CATEGORIES:Openingstijden
END:VEVENT
BEGIN:VTIMEZONE
TZID:Europe/Amsterdam
X-LIC-LOCATION:Europe/Amsterdam
BEGIN:DAYLIGHT
DTSTART:20220327T030000
TZOFFSETFROM:+0100
TZOFFSETTO:+0200
TZNAME:CEST
END:DAYLIGHT
END:VTIMEZONE
END:VCALENDAR